BEGIN:VCALENDAR
VERSION:2.0
PRODID:-//Siiclha - ECPv6.10.3//NONSGML v1.0//EN
CALSCALE:GREGORIAN
METHOD:PUBLISH
X-WR-CALNAME:Siiclha
X-ORIGINAL-URL:https://www.siiclha.com
X-WR-CALDESC:Évènements pour Siiclha
REFRESH-INTERVAL;VALUE=DURATION:PT1H
X-Robots-Tag:noindex
X-PUBLISHED-TTL:PT1H
BEGIN:VTIMEZONE
TZID:Europe/Paris
BEGIN:DAYLIGHT
TZOFFSETFROM:+0100
TZOFFSETTO:+0200
TZNAME:CEST
DTSTART:20240331T010000
END:DAYLIGHT
BEGIN:STANDARD
TZOFFSETFROM:+0200
TZOFFSETTO:+0100
TZNAME:CET
DTSTART:20241027T010000
END:STANDARD
END:VTIMEZONE
BEGIN:VEVENT
DTSTART;TZID=Europe/Paris:20240523T183000
DTEND;TZID=Europe/Paris:20240523T200000
DTSTAMP:20260422T011945
CREATED:20231031T210224Z
LAST-MODIFIED:20231031T210306Z
UID:1096-1716489000-1716494400@www.siiclha.com
SUMMARY:Les effets psychiques de l’E-Santé : l’exemple de la transplantation pulmonaire
DESCRIPTION:Thématique de l’année :\nDispositifs thérapeutiques et institutionnels : maladies somatiques et handicaps.\n \nPhilippe Drweski\, (MCU)\, Laboratoire PCPP\, Université Paris Cité \nDiscutante : Sophie Boursange psychologue clinicienne\, doctorante\, Université Paris Cité
URL:https://www.siiclha.com/colloque-seminaire/les-effets-psychiques-de-le-sante-lexemple-de-la-transplantation-pulmonaire/
LOCATION:Événement en distanciel
CATEGORIES:Les jeudis soir du Siiclha
ATTACH;FMTTYPE=image/jpeg:https://www.siiclha.com/wp-content/uploads/2021/10/siiclha_jeudi_soir.jpg
END:VEVENT
END:VCALENDAR