BEGIN:VCALENDAR
VERSION:2.0
PRODID:-//Siiclha - ECPv6.10.3//NONSGML v1.0//EN
CALSCALE:GREGORIAN
METHOD:PUBLISH
X-WR-CALNAME:Siiclha
X-ORIGINAL-URL:https://www.siiclha.com
X-WR-CALDESC:Évènements pour Siiclha
REFRESH-INTERVAL;VALUE=DURATION:PT1H
X-Robots-Tag:noindex
X-PUBLISHED-TTL:PT1H
BEGIN:VTIMEZONE
TZID:Europe/Paris
BEGIN:DAYLIGHT
TZOFFSETFROM:+0100
TZOFFSETTO:+0200
TZNAME:CEST
DTSTART:20210328T010000
END:DAYLIGHT
BEGIN:STANDARD
TZOFFSETFROM:+0200
TZOFFSETTO:+0100
TZNAME:CET
DTSTART:20211031T010000
END:STANDARD
END:VTIMEZONE
BEGIN:VEVENT
DTSTART;TZID=Europe/Paris:20211118T180000
DTEND;TZID=Europe/Paris:20211118T200000
DTSTAMP:20260423T180418
CREATED:20210927T124750Z
LAST-MODIFIED:20211028T093717Z
UID:143-1637258400-1637265600@www.siiclha.com
SUMMARY:Supervision des  équipes des Institut Médico-éducatifs
DESCRIPTION:Jean-Pierre Pinel\nDiscutant : Christophe Bittolo
URL:https://www.siiclha.com/colloque-seminaire/supervision-des-equipes-des-institut-medico-educatifs/
LOCATION:Séminaire distanciel
CATEGORIES:Les jeudis soir du Siiclha
ATTACH;FMTTYPE=image/jpeg:https://www.siiclha.com/wp-content/uploads/2021/10/siiclha_jeudi_soir.jpg
END:VEVENT
END:VCALENDAR