BEGIN:VCALENDAR
VERSION:2.0
PRODID:-//Siiclha - ECPv6.10.3//NONSGML v1.0//EN
CALSCALE:GREGORIAN
METHOD:PUBLISH
X-WR-CALNAME:Siiclha
X-ORIGINAL-URL:https://www.siiclha.com
X-WR-CALDESC:Évènements pour Siiclha
REFRESH-INTERVAL;VALUE=DURATION:PT1H
X-Robots-Tag:noindex
X-PUBLISHED-TTL:PT1H
BEGIN:VTIMEZONE
TZID:Europe/Paris
BEGIN:DAYLIGHT
TZOFFSETFROM:+0100
TZOFFSETTO:+0200
TZNAME:CEST
DTSTART:20230326T010000
END:DAYLIGHT
BEGIN:STANDARD
TZOFFSETFROM:+0200
TZOFFSETTO:+0100
TZNAME:CET
DTSTART:20231029T010000
END:STANDARD
END:VTIMEZONE
BEGIN:VEVENT
DTSTART;TZID=Europe/Paris:20231012T183000
DTEND;TZID=Europe/Paris:20231012T200000
DTSTAMP:20260422T082421
CREATED:20230911T221022Z
LAST-MODIFIED:20230911T221022Z
UID:1060-1697135400-1697140800@www.siiclha.com
SUMMARY:Le dispositif du « Soutien au Soutien »
DESCRIPTION:Thématique de l’année :\nDispositifs thérapeutiques et institutionnels : maladies somatiques et handicaps.\n \nMartine Lacour\, docteur en psychologie\, formatrice à l’AGSAS.\nDiscutant : Marco Araneda\, MCU Université Paris Cité
URL:https://www.siiclha.com/colloque-seminaire/le-dispositif-du-soutien-au-soutien/
LOCATION:Événement en distanciel
CATEGORIES:Les jeudis soir du Siiclha
ATTACH;FMTTYPE=image/jpeg:https://www.siiclha.com/wp-content/uploads/2021/10/siiclha_jeudi_soir.jpg
END:VEVENT
END:VCALENDAR