BEGIN:VCALENDAR
VERSION:2.0
PRODID:-//Siiclha - ECPv6.10.3//NONSGML v1.0//EN
CALSCALE:GREGORIAN
METHOD:PUBLISH
X-WR-CALNAME:Siiclha
X-ORIGINAL-URL:https://www.siiclha.com
X-WR-CALDESC:Évènements pour Siiclha
REFRESH-INTERVAL;VALUE=DURATION:PT1H
X-Robots-Tag:noindex
X-PUBLISHED-TTL:PT1H
BEGIN:VTIMEZONE
TZID:Europe/Paris
BEGIN:DAYLIGHT
TZOFFSETFROM:+0100
TZOFFSETTO:+0200
TZNAME:CEST
DTSTART:20230326T010000
END:DAYLIGHT
BEGIN:STANDARD
TZOFFSETFROM:+0200
TZOFFSETTO:+0100
TZNAME:CET
DTSTART:20231029T010000
END:STANDARD
END:VTIMEZONE
BEGIN:VEVENT
DTSTART;TZID=Europe/Paris:20230309T183000
DTEND;TZID=Europe/Paris:20230309T200000
DTSTAMP:20260422T174808
CREATED:20220901T135200Z
LAST-MODIFIED:20221104T083012Z
UID:781-1678386600-1678392000@www.siiclha.com
SUMMARY:Directives anticipées dans les maladies neurodégénératives
DESCRIPTION:Thématique de l’année :\nClinique(s)\, maladies somatiques et handicaps \nClaire Ewenczykc\, neurologue\, et Anne-Claire Dorsemans\, psychologue\, Hôpital Pitié Salpetrière\nDiscutante : Anne Boissel (MCU-HDR\, Université Rouen-Normandie ) \nSéminaire distanciel
URL:https://www.siiclha.com/colloque-seminaire/directives-anticipees-dans-les-maladies-neurodegeneratives/
LOCATION:Événement en distanciel
CATEGORIES:Les jeudis soir du Siiclha
ATTACH;FMTTYPE=image/jpeg:https://www.siiclha.com/wp-content/uploads/2021/10/siiclha_jeudi_soir.jpg
END:VEVENT
END:VCALENDAR