BEGIN:VCALENDAR
VERSION:2.0
PRODID:-//Siiclha - ECPv6.10.3//NONSGML v1.0//EN
CALSCALE:GREGORIAN
METHOD:PUBLISH
X-WR-CALNAME:Siiclha
X-ORIGINAL-URL:https://www.siiclha.com
X-WR-CALDESC:Évènements pour Siiclha
REFRESH-INTERVAL;VALUE=DURATION:PT1H
X-Robots-Tag:noindex
X-PUBLISHED-TTL:PT1H
BEGIN:VTIMEZONE
TZID:Europe/Paris
BEGIN:DAYLIGHT
TZOFFSETFROM:+0100
TZOFFSETTO:+0200
TZNAME:CEST
DTSTART:20220327T010000
END:DAYLIGHT
BEGIN:STANDARD
TZOFFSETFROM:+0200
TZOFFSETTO:+0100
TZNAME:CET
DTSTART:20221030T010000
END:STANDARD
END:VTIMEZONE
BEGIN:VEVENT
DTSTART;TZID=Europe/Paris:20220609T183000
DTEND;TZID=Europe/Paris:20220609T203000
DTSTAMP:20260423T061128
CREATED:20211027T133036Z
LAST-MODIFIED:20220901T134919Z
UID:521-1654799400-1654806600@www.siiclha.com
SUMMARY:Supervision d’une équipe d’oncologie
DESCRIPTION:Thématique de l’année :\nAnalyse des pratiques dans la clinique du handicap et de la maladie grave \nMarianne baudin \nDiscutant : Marco Arandea \nSéminaire distanciel
URL:https://www.siiclha.com/colloque-seminaire/supervision-dune-equipe-doncologie/
LOCATION:Séminaire distanciel
CATEGORIES:Les jeudis soir du Siiclha
ATTACH;FMTTYPE=image/jpeg:https://www.siiclha.com/wp-content/uploads/2021/10/siiclha_jeudi_soir.jpg
END:VEVENT
END:VCALENDAR