BEGIN:VCALENDAR
VERSION:2.0
PRODID:-//Siiclha - ECPv6.10.3//NONSGML v1.0//EN
CALSCALE:GREGORIAN
METHOD:PUBLISH
X-WR-CALNAME:Siiclha
X-ORIGINAL-URL:https://www.siiclha.com
X-WR-CALDESC:Évènements pour Siiclha
REFRESH-INTERVAL;VALUE=DURATION:PT1H
X-Robots-Tag:noindex
X-PUBLISHED-TTL:PT1H
BEGIN:VTIMEZONE
TZID:Europe/Paris
BEGIN:DAYLIGHT
TZOFFSETFROM:+0100
TZOFFSETTO:+0200
TZNAME:CEST
DTSTART:20220327T010000
END:DAYLIGHT
BEGIN:STANDARD
TZOFFSETFROM:+0200
TZOFFSETTO:+0100
TZNAME:CET
DTSTART:20221030T010000
END:STANDARD
END:VTIMEZONE
BEGIN:VEVENT
DTSTART;TZID=Europe/Paris:20220310T183000
DTEND;TZID=Europe/Paris:20220310T203000
DTSTAMP:20260423T105317
CREATED:20211027T111308Z
LAST-MODIFIED:20211130T153312Z
UID:507-1646937000-1646944200@www.siiclha.com
SUMMARY:Les groupes de parole des soignants à l’Hôpital
DESCRIPTION:Thématique de l’année :\nAnalyse des pratiques dans la clinique du handicap et de la maladie grave \nDominique Magli-Barioz\nDiscutant : Sophie Boursange \nSéminaire distanciel
URL:https://www.siiclha.com/colloque-seminaire/les-groupes-de-parole-des-soignants-a-lhopital/
LOCATION:Événement en distanciel
CATEGORIES:Les jeudis soir du Siiclha
ATTACH;FMTTYPE=image/jpeg:https://www.siiclha.com/wp-content/uploads/2021/10/siiclha_jeudi_soir_boursange.jpg
END:VEVENT
END:VCALENDAR