BEGIN:VCALENDAR
VERSION:2.0
PRODID:-//Siiclha - ECPv6.10.3//NONSGML v1.0//EN
CALSCALE:GREGORIAN
METHOD:PUBLISH
X-WR-CALNAME:Siiclha
X-ORIGINAL-URL:https://www.siiclha.com
X-WR-CALDESC:Évènements pour Siiclha
REFRESH-INTERVAL;VALUE=DURATION:PT1H
X-Robots-Tag:noindex
X-PUBLISHED-TTL:PT1H
BEGIN:VTIMEZONE
TZID:Europe/Paris
BEGIN:DAYLIGHT
TZOFFSETFROM:+0100
TZOFFSETTO:+0200
TZNAME:CEST
DTSTART:20220327T010000
END:DAYLIGHT
BEGIN:STANDARD
TZOFFSETFROM:+0200
TZOFFSETTO:+0100
TZNAME:CET
DTSTART:20221030T010000
END:STANDARD
END:VTIMEZONE
BEGIN:VEVENT
DTSTART;TZID=Europe/Paris:20220113T183000
DTEND;TZID=Europe/Paris:20220113T203000
DTSTAMP:20260423T132421
CREATED:20211027T102735Z
LAST-MODIFIED:20221104T085032Z
UID:495-1642098600-1642105800@www.siiclha.com
SUMMARY:Travaux doctoraux
DESCRIPTION:Thématique de l’année :\nAnalyse des pratiques dans la clinique du handicap et de la maladie grave \nÉlise Chauvin : « Troubles de l’oralité chez des enfants atteints des pathologies ORL » dirigée par le Pr Marcela Gargiulo \nDavid Fernandez : « Souffrance psychique chez la personne polyhandicapée » dirigé par le Pr Régine Scelles \nEstelle Veyron La Croix : « Femmes\, handicap intellectel et sexualité : Destins de la vie affective et sexuelle des femmes hébergées en établissement médico-social » dirigé par le Pr Albert Ciccone \nSéminaire distanciel
URL:https://www.siiclha.com/colloque-seminaire/travaux-doctoraux/
LOCATION:Événement en distanciel
CATEGORIES:Les jeudis soir du Siiclha
ATTACH;FMTTYPE=image/jpeg:https://www.siiclha.com/wp-content/uploads/2021/10/siiclha_jeudi_soir.jpg
END:VEVENT
END:VCALENDAR