BEGIN:VCALENDAR
VERSION:2.0
PRODID:-//Siiclha - ECPv6.10.3//NONSGML v1.0//EN
CALSCALE:GREGORIAN
METHOD:PUBLISH
X-WR-CALNAME:Siiclha
X-ORIGINAL-URL:https://www.siiclha.com
X-WR-CALDESC:Évènements pour Siiclha
REFRESH-INTERVAL;VALUE=DURATION:PT1H
X-Robots-Tag:noindex
X-PUBLISHED-TTL:PT1H
BEGIN:VTIMEZONE
TZID:Europe/Paris
BEGIN:DAYLIGHT
TZOFFSETFROM:+0100
TZOFFSETTO:+0200
TZNAME:CEST
DTSTART:20230326T010000
END:DAYLIGHT
BEGIN:STANDARD
TZOFFSETFROM:+0200
TZOFFSETTO:+0100
TZNAME:CET
DTSTART:20231029T010000
END:STANDARD
END:VTIMEZONE
BEGIN:VEVENT
DTSTART;TZID=Europe/Paris:20230511T183000
DTEND;TZID=Europe/Paris:20230511T200000
DTSTAMP:20260423T041751
CREATED:20220901T140305Z
LAST-MODIFIED:20230512T113911Z
UID:784-1683829800-1683835200@www.siiclha.com
SUMMARY:Problèmes d’observance dans une maladie génétique rare: exemple de la maladie de Wilson
DESCRIPTION:Thématique de l’année :\nClinique(s)\, maladies somatiques et handicaps \nConférencière : Elodie Jacquelet\nDiscutantes : Mme Dominique Magli \nSéminaire distanciel
URL:https://www.siiclha.com/colloque-seminaire/problemes-dobservance-dans-une-maladie-genetique-rare-exemple-de-la-maladie-de-wilson/
LOCATION:Événement en distanciel
CATEGORIES:Les jeudis soir du Siiclha
ATTACH;FMTTYPE=image/jpeg:https://www.siiclha.com/wp-content/uploads/2021/10/siiclha_jeudi_soir.jpg
END:VEVENT
END:VCALENDAR